BEGIN:VCALENDAR
VERSION:2.0
PRODID:-//eventon.com NONSGML v1.0//EN
CALSCALE:GREGORIAN
METHOD:PUBLISH
BEGIN:VEVENT
UID:69e5911b72772
DTSTAMP:20260420T023611Z
DTSTART:20260525
DTEND:20260526
LOCATION:
SUMMARY:SAQA 15162 - NQF Level 5
DESCRIPTION:Start your Labour Intensive Construction learner journey with o
 ur EPWP Specialist facilitator through our interactive 3 day CETA Accredite
 d course and earn&nbsp;3 SAICE CPD Points. Through this engaging\,  interac
 tive course\, &nbsp;learners&nbsp;will gain the ability to: &#8211; Underst
 and the principles of LIC&#8211; Be able to adequately price tenders which 
 incorporate&nbsp; LIC&#8211; Manage[..]\nhttps://designdragons.online/event
 s/saqa-15162-nqf-level-5-copy-3/
URL:https://designdragons.online/events/saqa-15162-nqf-level-5-copy-3/
END:VEVENT
END:VCALENDAR