BEGIN:VCALENDAR
VERSION:2.0
PRODID:-//eventon.com NONSGML v1.0//EN
CALSCALE:GREGORIAN
METHOD:PUBLISH
BEGIN:VEVENT
UID:69e590f629ed2
DTSTAMP:20260420T023534Z
DTSTART:20260420
DTEND:20260421
LOCATION:
SUMMARY:SAQA 114913
DESCRIPTION:Start your Labour Intensive Construction learner journey with o
 ur EPWP Specialist facilitator through our interactive 5 day CETA Accredite
 d course and earn 5 SAICE CPD Points. Through this engaging\,  interactive 
 course\,  leaners will gain the ability to: &#8211; Understand what LIC is&
 #8211; Understand the principles which underpin effective implementation&#8
 211; Understand[..]\nhttps://designdragons.online/events/saqa-114913-copy-4
 /
URL:https://designdragons.online/events/saqa-114913-copy-4/
END:VEVENT
END:VCALENDAR